BEGIN:VCALENDAR
VERSION:2.0
PRODID:-//Śląski Związek Żeglarski - ECPv6.15.12.2//NONSGML v1.0//EN
CALSCALE:GREGORIAN
METHOD:PUBLISH
X-WR-CALNAME:Śląski Związek Żeglarski
X-ORIGINAL-URL:https://szz.org.pl
X-WR-CALDESC:Wydarzenia dla Śląski Związek Żeglarski
REFRESH-INTERVAL;VALUE=DURATION:PT1H
X-Robots-Tag:noindex
X-PUBLISHED-TTL:PT1H
BEGIN:VTIMEZONE
TZID:Europe/Warsaw
BEGIN:DAYLIGHT
TZOFFSETFROM:+0100
TZOFFSETTO:+0200
TZNAME:CEST
DTSTART:20250330T010000
END:DAYLIGHT
BEGIN:STANDARD
TZOFFSETFROM:+0200
TZOFFSETTO:+0100
TZNAME:CET
DTSTART:20251026T010000
END:STANDARD
BEGIN:DAYLIGHT
TZOFFSETFROM:+0100
TZOFFSETTO:+0200
TZNAME:CEST
DTSTART:20260329T010000
END:DAYLIGHT
BEGIN:STANDARD
TZOFFSETFROM:+0200
TZOFFSETTO:+0100
TZNAME:CET
DTSTART:20261025T010000
END:STANDARD
BEGIN:DAYLIGHT
TZOFFSETFROM:+0100
TZOFFSETTO:+0200
TZNAME:CEST
DTSTART:20270328T010000
END:DAYLIGHT
BEGIN:STANDARD
TZOFFSETFROM:+0200
TZOFFSETTO:+0100
TZNAME:CET
DTSTART:20271031T010000
END:STANDARD
END:VTIMEZONE
BEGIN:VEVENT
DTSTART;TZID=Europe/Warsaw:20260906T080000
DTEND;TZID=Europe/Warsaw:20260906T170000
DTSTAMP:20260422T204254
CREATED:20260122T095521Z
LAST-MODIFIED:20260122T095525Z
UID:58482-1788681600-1788714000@szz.org.pl
SUMMARY:Interpuchar 2026 - Zarzecze
DESCRIPTION:
URL:https://szz.org.pl/wydarzenia/interpuchar-2026-zarzecze/
LOCATION:Zarzecze\, Stanisława Staszica 8\, Zarzecze\, Śląsk\, 34-326\, Poland
ORGANIZER;CN="UKS Wiking":MAILTO:puga@op.pl
END:VEVENT
END:VCALENDAR