BEGIN:VCALENDAR
VERSION:2.0
PRODID:-//Śląski Związek Żeglarski - ECPv6.15.12.2//NONSGML v1.0//EN
CALSCALE:GREGORIAN
METHOD:PUBLISH
X-WR-CALNAME:Śląski Związek Żeglarski
X-ORIGINAL-URL:https://szz.org.pl
X-WR-CALDESC:Wydarzenia dla Śląski Związek Żeglarski
REFRESH-INTERVAL;VALUE=DURATION:PT1H
X-Robots-Tag:noindex
X-PUBLISHED-TTL:PT1H
BEGIN:VTIMEZONE
TZID:Europe/Warsaw
BEGIN:DAYLIGHT
TZOFFSETFROM:+0100
TZOFFSETTO:+0200
TZNAME:CEST
DTSTART:20250330T010000
END:DAYLIGHT
BEGIN:STANDARD
TZOFFSETFROM:+0200
TZOFFSETTO:+0100
TZNAME:CET
DTSTART:20251026T010000
END:STANDARD
BEGIN:DAYLIGHT
TZOFFSETFROM:+0100
TZOFFSETTO:+0200
TZNAME:CEST
DTSTART:20260329T010000
END:DAYLIGHT
BEGIN:STANDARD
TZOFFSETFROM:+0200
TZOFFSETTO:+0100
TZNAME:CET
DTSTART:20261025T010000
END:STANDARD
BEGIN:DAYLIGHT
TZOFFSETFROM:+0100
TZOFFSETTO:+0200
TZNAME:CEST
DTSTART:20270328T010000
END:DAYLIGHT
BEGIN:STANDARD
TZOFFSETFROM:+0200
TZOFFSETTO:+0100
TZNAME:CET
DTSTART:20271031T010000
END:STANDARD
END:VTIMEZONE
BEGIN:VEVENT
DTSTART;TZID=Europe/Warsaw:20260418T080000
DTEND;TZID=Europe/Warsaw:20260418T160000
DTSTAMP:20260422T191335
CREATED:20260207T154651Z
LAST-MODIFIED:20260207T161617Z
UID:58556-1776499200-1776528000@szz.org.pl
SUMMARY:Nauczyciel Żeglowania PZŻ - 18.04 - 10.05.2026 - KŻ "Halny" Bielsko - Biała
DESCRIPTION:Nauczyciel Żeglowania PZŻ – 18.04 – 10.05.2026 – KŻ „Halny” Bielsko – Biała\n\n\n\nZapraszamy na kurs na stopień Nauczyciela Żeglowania PZŻ organizowany przez Klub Żeglarski Halny! \n\n\n\nTo świetna okazja\, aby zdobyć nowe kompetencje\, rozwinąć swoje umiejętności szkoleniowe i wejść na wyższy poziom żeglarskiego wtajemniczenia. Stawiamy na profesjonalizm\, praktykę i świetną atmosferę! \n\n\n\n Termin: 18.04 – 10.05.2026 (kurs weekendowy) \n\n\n\n Cena: 2400 zł \n\n\n\n Dla członków KŻ Halny: 2100 zł \n\n\n\nJeśli chcesz dzielić się swoją pasją i szkolić przyszłych żeglarzy – ten kurs jest dla Ciebie! \n\n\n\nFormularz zgłoszeniowy: \n\n\n\nhttps://forms.gle/6Q2CiRCBD2B5ZRLH8
URL:https://szz.org.pl/wydarzenia/nauczyciel-zeglowania-18-04-10-05-2026-kz-halny/
LOCATION:Klub Żeglarski „Halny”\, Plażowa\, Zarzecze\, Śląsk\, 34-326\, Poland
CATEGORIES:Kursy instruktorskie
ATTACH;FMTTYPE=image/jpeg:https://szz.org.pl/wp-content/uploads/2026/02/Plakat-Kurs-NZ-2026mn2.jpg
ORGANIZER;CN="Klub %C5%BBeglarski 'Halny' Bielsko - Bia%C5%82a":MAILTO:klub@halny.org.pl
END:VEVENT
END:VCALENDAR